BEGIN:VCALENDAR
VERSION:2.0
PRODID:-//Heritage Seekers - ECPv6.15.20//NONSGML v1.0//EN
CALSCALE:GREGORIAN
METHOD:PUBLISH
X-WR-CALNAME:Heritage Seekers
X-ORIGINAL-URL:https://heritageseekersar.com
X-WR-CALDESC:Events for Heritage Seekers
REFRESH-INTERVAL;VALUE=DURATION:PT1H
X-Robots-Tag:noindex
X-PUBLISHED-TTL:PT1H
BEGIN:VTIMEZONE
TZID:America/Chicago
BEGIN:DAYLIGHT
TZOFFSETFROM:-0600
TZOFFSETTO:-0500
TZNAME:CDT
DTSTART:20240310T080000
END:DAYLIGHT
BEGIN:STANDARD
TZOFFSETFROM:-0500
TZOFFSETTO:-0600
TZNAME:CST
DTSTART:20241103T070000
END:STANDARD
BEGIN:DAYLIGHT
TZOFFSETFROM:-0600
TZOFFSETTO:-0500
TZNAME:CDT
DTSTART:20250309T080000
END:DAYLIGHT
BEGIN:STANDARD
TZOFFSETFROM:-0500
TZOFFSETTO:-0600
TZNAME:CST
DTSTART:20251102T070000
END:STANDARD
BEGIN:DAYLIGHT
TZOFFSETFROM:-0600
TZOFFSETTO:-0500
TZNAME:CDT
DTSTART:20260308T080000
END:DAYLIGHT
BEGIN:STANDARD
TZOFFSETFROM:-0500
TZOFFSETTO:-0600
TZNAME:CST
DTSTART:20261101T070000
END:STANDARD
END:VTIMEZONE
BEGIN:VEVENT
DTSTART;TZID=America/Chicago:20250825T183000
DTEND;TZID=America/Chicago:20250825T200000
DTSTAMP:20260421T211511
CREATED:20250328T170605Z
LAST-MODIFIED:20250826T151021Z
UID:1560-1756146600-1756152000@heritageseekersar.com
SUMMARY:WHAT Exactly IS a Manuscript Collection? And How do You Create One?
DESCRIPTION:WHAT Exactly IS a Manuscript Collection?\nAnd How do You Create One?  \nPresented by Brian Robertson\, Butler Center \nDo you ever wonder how to make your records a more manageable? Or consider “what” will be the fate of them? \nBrian Robertson will discuss what a manuscript collection is\, how they are usually created\, and what you can do with them. He will also talk about how archives and libraries make them available to researchers. \nBrian Robertson is the Senior Archivist and Manager of the Research Services Division at the Butler Center for Arkansas Studies at the Central Arkansas Library System. He has been at the Center since 1999. He has a bachelor’s degree in history from the University of Central Arkansas and a master’s degree in public history from the University of Arkansas at Little Rock. Robertson is the author or editor of several books and articles on Arkansas history. He is also the project director of the award-winning Arkansas Korean War Project as well as the Arkansas Vietnam War Project. \nMembers\, please login to see the video:Zoom meeting video:
URL:https://heritageseekersar.com/event/what-exactly-is-a-manuscript-collection-and-how-do-you-create-one/
LOCATION:Zoom Virtual Meeting
CATEGORIES:Arkansas,Heritage Seekers
ORGANIZER;CN="The Heritage Seekers Genealogy Club":MAILTO:info@HeritageSeekersAR.com
END:VEVENT
END:VCALENDAR