BEGIN:VCALENDAR
VERSION:2.0
PRODID:-//Heritage Seekers - ECPv6.15.20//NONSGML v1.0//EN
CALSCALE:GREGORIAN
METHOD:PUBLISH
X-ORIGINAL-URL:https://heritageseekersar.com
X-WR-CALDESC:Events for Heritage Seekers
REFRESH-INTERVAL;VALUE=DURATION:PT1H
X-Robots-Tag:noindex
X-PUBLISHED-TTL:PT1H
BEGIN:VTIMEZONE
TZID:America/Chicago
BEGIN:DAYLIGHT
TZOFFSETFROM:-0600
TZOFFSETTO:-0500
TZNAME:CDT
DTSTART:20250309T080000
END:DAYLIGHT
BEGIN:STANDARD
TZOFFSETFROM:-0500
TZOFFSETTO:-0600
TZNAME:CST
DTSTART:20251102T070000
END:STANDARD
BEGIN:DAYLIGHT
TZOFFSETFROM:-0600
TZOFFSETTO:-0500
TZNAME:CDT
DTSTART:20260308T080000
END:DAYLIGHT
BEGIN:STANDARD
TZOFFSETFROM:-0500
TZOFFSETTO:-0600
TZNAME:CST
DTSTART:20261101T070000
END:STANDARD
BEGIN:DAYLIGHT
TZOFFSETFROM:-0600
TZOFFSETTO:-0500
TZNAME:CDT
DTSTART:20270314T080000
END:DAYLIGHT
BEGIN:STANDARD
TZOFFSETFROM:-0500
TZOFFSETTO:-0600
TZNAME:CST
DTSTART:20271107T070000
END:STANDARD
END:VTIMEZONE
BEGIN:VEVENT
DTSTART;TZID=America/Chicago:20260502T083000
DTEND;TZID=America/Chicago:20260502T120000
DTSTAMP:20260421T175641
CREATED:20260421T182657Z
LAST-MODIFIED:20260421T183115Z
UID:2283-1777710600-1777723200@heritageseekersar.com
SUMMARY:Arkansas State Archives Spring Symposium
DESCRIPTION:From 8:30 a.m. – 12 p.m. on Saturday\, May 2\, 2026\, the Arkansas State Archives (ASA) will host their spring symposium at the Historic Arkansas Museum. \n\n\n\nThe symposium will focus on the legacy of sports in the Natural State. Historian Jim Yeager will talk about the history of the Arkansas Travelers; ASA archival assistant Brian Irby will speak about the history of prizefighting in the state; UCA Professor Buckley T. Foster will talk about Arkansas’ history of hunting and conservation; and Muskie Harris will discuss his football career at Central High School and with the Arkansas Razorbacks. \n\n\n\nThe event is free to attend\, but registration is required. Seating is limited\, so be sure to register below! \n\n\nRegister on Eventbrite
URL:https://heritageseekersar.com/event/arkansas-state-archives-spring-symposium/
LOCATION:Historic Arkansas Museum\, 201 W 3rd St\, Little Rock\, Arkansas\, 72201\, United States
CATEGORIES:Arkansas
ATTACH;FMTTYPE=image/png:https://heritageseekersar.com/wp-content/uploads/2026/04/arkansas-state-archives-logo-800x158-1.png
END:VEVENT
END:VCALENDAR