BEGIN:VCALENDAR
VERSION:2.0
PRODID:-//Heritage Seekers - ECPv6.15.20//NONSGML v1.0//EN
CALSCALE:GREGORIAN
METHOD:PUBLISH
X-ORIGINAL-URL:https://heritageseekersar.com
X-WR-CALDESC:Events for Heritage Seekers
REFRESH-INTERVAL;VALUE=DURATION:PT1H
X-Robots-Tag:noindex
X-PUBLISHED-TTL:PT1H
BEGIN:VTIMEZONE
TZID:America/Chicago
BEGIN:DAYLIGHT
TZOFFSETFROM:-0600
TZOFFSETTO:-0500
TZNAME:CDT
DTSTART:20230312T080000
END:DAYLIGHT
BEGIN:STANDARD
TZOFFSETFROM:-0500
TZOFFSETTO:-0600
TZNAME:CST
DTSTART:20231105T070000
END:STANDARD
BEGIN:DAYLIGHT
TZOFFSETFROM:-0600
TZOFFSETTO:-0500
TZNAME:CDT
DTSTART:20240310T080000
END:DAYLIGHT
BEGIN:STANDARD
TZOFFSETFROM:-0500
TZOFFSETTO:-0600
TZNAME:CST
DTSTART:20241103T070000
END:STANDARD
BEGIN:DAYLIGHT
TZOFFSETFROM:-0600
TZOFFSETTO:-0500
TZNAME:CDT
DTSTART:20250309T080000
END:DAYLIGHT
BEGIN:STANDARD
TZOFFSETFROM:-0500
TZOFFSETTO:-0600
TZNAME:CST
DTSTART:20251102T070000
END:STANDARD
END:VTIMEZONE
BEGIN:VEVENT
DTSTART;TZID=America/Chicago:20240311T183000
DTEND;TZID=America/Chicago:20240311T200000
DTSTAMP:20260423T104711
CREATED:20240122T194246Z
LAST-MODIFIED:20240329T190318Z
UID:1102-1710181800-1710187200@heritageseekersar.com
SUMMARY:Women in The Civil War
DESCRIPTION:Women in The Civil War \npresented by Angela Walton-Raji \nHandout \nChat 1 \nChat 2 \nMembers\, please login to see the video:Zoom meeting video:
URL:https://heritageseekersar.com/event/women-in-the-civil-war/
LOCATION:Zoom Virtual Meeting
CATEGORIES:Arkansas,Heritage Seekers
ORGANIZER;CN="The Heritage Seekers Genealogy Club":MAILTO:info@HeritageSeekersAR.com
END:VEVENT
BEGIN:VEVENT
DTSTART;TZID=America/Chicago:20240325T183000
DTEND;TZID=America/Chicago:20240325T200000
DTSTAMP:20260423T104711
CREATED:20240122T194506Z
LAST-MODIFIED:20240329T190803Z
UID:1104-1711391400-1711396800@heritageseekersar.com
SUMMARY:Brick Wall Challenge & Genealogy Serendipity
DESCRIPTION:Brick Wall Challenge & Genealogy Serendipity \nChat 1 \nChat 2 \nMembers\, please login to see the video:Zoom meeting video:
URL:https://heritageseekersar.com/event/brick-wall-challenge-genealogy-serendipity-2/
LOCATION:Zoom Virtual Meeting
CATEGORIES:Arkansas,Heritage Seekers
ORGANIZER;CN="The Heritage Seekers Genealogy Club":MAILTO:info@HeritageSeekersAR.com
END:VEVENT
END:VCALENDAR