BEGIN:VCALENDAR
VERSION:2.0
PRODID:-//Heritage Seekers - ECPv6.15.20//NONSGML v1.0//EN
CALSCALE:GREGORIAN
METHOD:PUBLISH
X-WR-CALNAME:Heritage Seekers
X-ORIGINAL-URL:https://heritageseekersar.com
X-WR-CALDESC:Events for Heritage Seekers
REFRESH-INTERVAL;VALUE=DURATION:PT1H
X-Robots-Tag:noindex
X-PUBLISHED-TTL:PT1H
BEGIN:VTIMEZONE
TZID:America/Chicago
BEGIN:DAYLIGHT
TZOFFSETFROM:-0600
TZOFFSETTO:-0500
TZNAME:CDT
DTSTART:20230312T080000
END:DAYLIGHT
BEGIN:STANDARD
TZOFFSETFROM:-0500
TZOFFSETTO:-0600
TZNAME:CST
DTSTART:20231105T070000
END:STANDARD
BEGIN:DAYLIGHT
TZOFFSETFROM:-0600
TZOFFSETTO:-0500
TZNAME:CDT
DTSTART:20240310T080000
END:DAYLIGHT
BEGIN:STANDARD
TZOFFSETFROM:-0500
TZOFFSETTO:-0600
TZNAME:CST
DTSTART:20241103T070000
END:STANDARD
BEGIN:DAYLIGHT
TZOFFSETFROM:-0600
TZOFFSETTO:-0500
TZNAME:CDT
DTSTART:20250309T080000
END:DAYLIGHT
BEGIN:STANDARD
TZOFFSETFROM:-0500
TZOFFSETTO:-0600
TZNAME:CST
DTSTART:20251102T070000
END:STANDARD
END:VTIMEZONE
BEGIN:VEVENT
DTSTART;TZID=America/Chicago:20240505T100000
DTEND;TZID=America/Chicago:20240505T140000
DTSTAMP:20260422T023408
CREATED:20240122T200736Z
LAST-MODIFIED:20240603T211901Z
UID:1110-1714903200-1714917600@heritageseekersar.com
SUMMARY:Iconography Scavenger Hunt at Mount Holly Cemetery
DESCRIPTION:Iconography Scavenger Hunt at Mount Holly Cemetery \nLed by Holly Hope\, Special Projects Historian\, Arkansas Historic Preservation Program \n  \nREscheduled
URL:https://heritageseekersar.com/event/iconography-scavenger-hunt-at-mount-holly-cemetery/
LOCATION:Mount Holly Cemetery\, 1200 Broadway St Little Rock\, AR 72202\, Little Rock\, AR\, 72202\, United States
CATEGORIES:Arkansas
ORGANIZER;CN="The Heritage Seekers Genealogy Club":MAILTO:info@HeritageSeekersAR.com
END:VEVENT
BEGIN:VEVENT
DTSTART;TZID=America/Chicago:20240513T183000
DTEND;TZID=America/Chicago:20240513T200000
DTSTAMP:20260422T023408
CREATED:20240122T201224Z
LAST-MODIFIED:20240607T162419Z
UID:1113-1715625000-1715630400@heritageseekersar.com
SUMMARY:My Great-grandfather: His Letters Home from the Civil War and Other Stories
DESCRIPTION:My Great-grandfather:\nHis Letters Home from the Civil War and Other Stories \npresented by David W. Bash \nThrough 50 letters written home from his Civil War service and other memorabilia\, was my great-grandfather William G. Kendrick arrogant\, narcissistic\, a daredevil\, or just telling it as he really was? Maybe all four traits or maybe just boasting to his wife? Zoom in and determine it for yourself. \nDavid Bash\, Ph.D.\, earned his Doctor of Philosophy in Mathematics in 1969. After teaching for a few years\, he became interested in applying mathematics instead of teaching it – especially after having a fellowship sponsored by the National Science Foundation about applied mathematics for college professors of mathematics. His major career was as an Operations Research Analyst with the US Army doing war game development and nuclear weapons effects analysis. David is also a long-standing member of the Civil War Roundtable of Arkansas & Heritage Seekers. \nHandout \nCHAT \nMembers\, please login to see the video:Zoom meeting video:\n\n 
URL:https://heritageseekersar.com/event/my-great-grandfather-his-letters-home-from-the-civil-war-and-other-stories/
LOCATION:Zoom Virtual Meeting
CATEGORIES:Arkansas
ORGANIZER;CN="The Heritage Seekers Genealogy Club":MAILTO:info@HeritageSeekersAR.com
END:VEVENT
END:VCALENDAR