BEGIN:VCALENDAR
VERSION:2.0
PRODID:-//Heritage Seekers - ECPv6.15.20//NONSGML v1.0//EN
CALSCALE:GREGORIAN
METHOD:PUBLISH
X-WR-CALNAME:Heritage Seekers
X-ORIGINAL-URL:https://heritageseekersar.com
X-WR-CALDESC:Events for Heritage Seekers
REFRESH-INTERVAL;VALUE=DURATION:PT1H
X-Robots-Tag:noindex
X-PUBLISHED-TTL:PT1H
BEGIN:VTIMEZONE
TZID:America/Chicago
BEGIN:DAYLIGHT
TZOFFSETFROM:-0600
TZOFFSETTO:-0500
TZNAME:CDT
DTSTART:20230312T080000
END:DAYLIGHT
BEGIN:STANDARD
TZOFFSETFROM:-0500
TZOFFSETTO:-0600
TZNAME:CST
DTSTART:20231105T070000
END:STANDARD
BEGIN:DAYLIGHT
TZOFFSETFROM:-0600
TZOFFSETTO:-0500
TZNAME:CDT
DTSTART:20240310T080000
END:DAYLIGHT
BEGIN:STANDARD
TZOFFSETFROM:-0500
TZOFFSETTO:-0600
TZNAME:CST
DTSTART:20241103T070000
END:STANDARD
BEGIN:DAYLIGHT
TZOFFSETFROM:-0600
TZOFFSETTO:-0500
TZNAME:CDT
DTSTART:20250309T080000
END:DAYLIGHT
BEGIN:STANDARD
TZOFFSETFROM:-0500
TZOFFSETTO:-0600
TZNAME:CST
DTSTART:20251102T070000
END:STANDARD
END:VTIMEZONE
BEGIN:VEVENT
DTSTART;TZID=America/Chicago:20240812T183000
DTEND;TZID=America/Chicago:20240812T200000
DTSTAMP:20260421T162216
CREATED:20240601T174029Z
LAST-MODIFIED:20240813T181700Z
UID:1240-1723487400-1723492800@heritageseekersar.com
SUMMARY:Connecting Faces Through Time – How Related Faces Can Help Identify Unknown People in Old Photos
DESCRIPTION:Connecting Faces Through Time – How Related Faces Can Help Identify Unknown People in Old Photos \npresented by Tina LaFreniere\, Related Faces \nTina will step you through how to identify unknown people in old photographs by utilizing the features of Related Faces. This class discusses the basics of how facial recognition works\, the importance of properly digitizing your photos and how to do it with just a cell phone\, shows techniques for making positive identifications and matches\, and covers real-world examples. \nRelated Faces is easy and intuitive to use\, yet the technologically is powerful. Tina’s goal is for Related Faces to become a place where people can recapture their family history and reconnect with long lost family members\, brought together by the faces of their ancestors. \nTina LaFreniere is the founder and CEO of Related Faces Technologies. She is a graduate of The University of Houston where she earned a Bachelor of Business Administration degree in Finance. She is a former Assistant Vice President and Production Manager for a mortgage brokerage firm in Dallas\, Texas. Tina began her genealogical journey over 15 years ago and along the way she has inherited thousands of photos from her family\, hundreds with no identification. These photos were the inspiration for Related Faces back in 2018 when she conceived the idea for Related Faces\, and the idea took first place at the Google Techstars Start-up Weekend in Ft. Myers. Related Faces was launched in February of 2022 and was issued a U.S. Patent in October of 2022. Tina is a member of the Genealogical Society of Collier County\, Florida\, the Texas Genealogical Society\, the Comal County Genealogical Society\, the National Genealogical Society and The Photo Managers Group. Related Faces is also a Family Search Registered Solutions Provider. \nHANDOUT \nHANDOUT – NO PICS \nCHAT \nMembers\, please login to see the video:Zoom meeting video:
URL:https://heritageseekersar.com/event/connecting-faces-through-time-how-related-faces-can-help-identify-unknown-people-in-old-photos/
LOCATION:Zoom Virtual Meeting
CATEGORIES:Arkansas,Heritage Seekers
ORGANIZER;CN="The Heritage Seekers Genealogy Club":MAILTO:info@HeritageSeekersAR.com
END:VEVENT
BEGIN:VEVENT
DTSTART;TZID=America/Chicago:20240824T120000
DTEND;TZID=America/Chicago:20240824T160000
DTSTAMP:20260421T162216
CREATED:20240601T171911Z
LAST-MODIFIED:20240601T172626Z
UID:1228-1724500800-1724515200@heritageseekersar.com
SUMMARY:Research Day & Brick Wall Challenge
DESCRIPTION:Butler Center for a Research Day & Brick Wall Challenge \nA favorite Heritage Seekers event! Spend the day with us whether you are a beginner or seasoned researcher looking to break out some brick walls. Everyone has a great time! There is always more to learn & fun strategies you never thought of.
URL:https://heritageseekersar.com/event/research-day-brick-wall-challenge/
LOCATION:CALS Butler Center\, 401 President Clinton Ave\, Little Rock\, AR\, 72201\, United States
CATEGORIES:Arkansas,Heritage Seekers
ORGANIZER;CN="The Heritage Seekers Genealogy Club":MAILTO:info@HeritageSeekersAR.com
END:VEVENT
BEGIN:VEVENT
DTSTART;TZID=America/Chicago:20240826T183000
DTEND;TZID=America/Chicago:20240826T200000
DTSTAMP:20260421T162216
CREATED:20240826T152854Z
LAST-MODIFIED:20241228T171954Z
UID:1328-1724697000-1724702400@heritageseekersar.com
SUMMARY:Census Gap Alternatives
DESCRIPTION:Census Gap Alternatives \npresented by LaDonna Garner \nDiscover documented options to bridge ancestors between the census years. \nLaDonna Garner\, M.A. is a Historic Consultant — Professional Genealogist & Historic Preservationist— focused on historical preservation and genealogical research in and outside Southeast Missouri. She often lectures on both subjects at conferences\, society events\, and colleges. She also offers in-person/online courses and one-on-one consultations. \nGarner is an active member of the Association of Professional Genealogists and assists numerous organizations in various volunteer and leadership capacities. Garner’s current projects regard reenacting and rediscovering forgotten communities and cemetery preservation for a greater understanding of people\, places\, and cultural heritage. Recently\, LaDonna taught in a course at The Institute of Genealogical & Historical Research in a government documents class. \nHANDOUT \nCHAT \n 
URL:https://heritageseekersar.com/event/census-gap-alternatives/
LOCATION:Zoom Virtual Meeting
CATEGORIES:Arkansas,Heritage Seekers
ORGANIZER;CN="The Heritage Seekers Genealogy Club":MAILTO:info@HeritageSeekersAR.com
END:VEVENT
END:VCALENDAR