BEGIN:VCALENDAR
VERSION:2.0
PRODID:-//Heritage Seekers - ECPv6.15.20//NONSGML v1.0//EN
CALSCALE:GREGORIAN
METHOD:PUBLISH
X-ORIGINAL-URL:https://heritageseekersar.com
X-WR-CALDESC:Events for Heritage Seekers
REFRESH-INTERVAL;VALUE=DURATION:PT1H
X-Robots-Tag:noindex
X-PUBLISHED-TTL:PT1H
BEGIN:VTIMEZONE
TZID:America/Chicago
BEGIN:DAYLIGHT
TZOFFSETFROM:-0600
TZOFFSETTO:-0500
TZNAME:CDT
DTSTART:20250309T080000
END:DAYLIGHT
BEGIN:STANDARD
TZOFFSETFROM:-0500
TZOFFSETTO:-0600
TZNAME:CST
DTSTART:20251102T070000
END:STANDARD
BEGIN:DAYLIGHT
TZOFFSETFROM:-0600
TZOFFSETTO:-0500
TZNAME:CDT
DTSTART:20260308T080000
END:DAYLIGHT
BEGIN:STANDARD
TZOFFSETFROM:-0500
TZOFFSETTO:-0600
TZNAME:CST
DTSTART:20261101T070000
END:STANDARD
BEGIN:DAYLIGHT
TZOFFSETFROM:-0600
TZOFFSETTO:-0500
TZNAME:CDT
DTSTART:20270314T080000
END:DAYLIGHT
BEGIN:STANDARD
TZOFFSETFROM:-0500
TZOFFSETTO:-0600
TZNAME:CST
DTSTART:20271107T070000
END:STANDARD
END:VTIMEZONE
BEGIN:VEVENT
DTSTART;TZID=America/Chicago:20260309T183000
DTEND;TZID=America/Chicago:20260309T200000
DTSTAMP:20260422T231701
CREATED:20251109T203159Z
LAST-MODIFIED:20260218T015918Z
UID:1966-1773081000-1773086400@heritageseekersar.com
SUMMARY:What We Wore: Dating Photos Through Clothes
DESCRIPTION:Heather Zbinden\n\n\n\nUsing photos from the Butler Center for Arkansas Studies collection\, learn how to date family photos by the clothes worn by the photo sitters. \n\n\n\n Heather Register Zbinden is the Adult Program Coordinator for the Central Arkansas Library System. She has worked in public history for over 20 years and has contributed to projects at the Old State House Museum\, the Central High School National Historic Site\, the Mosaic Templars Cultural Center\, and Life Interrupted: The Japanese American Experience in World War II Arkansas. Her research passion is fashion and clothes – any clothes – from haute couture to dime store finds. \n\n\n\nA Zoom link will be sent to members and mailing list subscribers the morning of the event.
URL:https://heritageseekersar.com/event/what-we-wore-dating-photos-through-clothes/
LOCATION:Virtual Meeting
CATEGORIES:Arkansas,Heritage Seekers
ATTACH;FMTTYPE=image/jpeg:https://heritageseekersar.com/wp-content/uploads/2025/11/Heather-Zbinden.jpg
ORGANIZER;CN="The Heritage Seekers Genealogy Club":MAILTO:info@HeritageSeekersAR.com
END:VEVENT
BEGIN:VEVENT
DTSTART;TZID=America/Chicago:20260317T183000
DTEND;TZID=America/Chicago:20260317T200000
DTSTAMP:20260422T231701
CREATED:20260224T002858Z
LAST-MODIFIED:20260224T002904Z
UID:2253-1773772200-1773777600@heritageseekersar.com
SUMMARY:Effective Use of Ancestry.com
DESCRIPTION:Scott Lee\n\n\n\nWe click all those little green leaves and build a tree\, but keep finding mistakes. How do we fix them? This presentation will show you how to avoid incorporating other people’s mistakes into your tree and use the Ancestry.com service effectively. It will teach techniques for building a more reliable\, evidence-based tree. This is a great refresher even for experienced Ancestry.com users!Scott Lee is a retired software engineer who has researched his family history since 1979. He has served as an officer in several genealogical societies and lectures on genealogical topics. Currently\, he is the 1st Vice President of the Arkansas Genealogical Society. \n\n\n\nScott grew up in Little Rock\, Arkansas\, but his work took him to Indiana\, Oregon\, North Carolina\, and New York City. In retirement\, he and his wife\, Deirdre\, have returned to their families in Arkansas. His career included the medical field\, engineering\, computer graphics\, and consulting in the process of building reliable software. In retirement\, he is working on the design of deep learning neural networks and software for genealogy. In his spare time\, he enjoys writing science fiction\, studying ancient calendars\, developing open-source software\, keeping up with the latest advances in physics and astronomy\, and\, of course\, researching his family history.To register for this free webinar\, please use this link: https://us02web.zoom.us/meeting/register/KC2lat_XTpCRyfZlTkR0_w#/registration.
URL:https://heritageseekersar.com/event/effective-use-of-ancestry-com/
LOCATION:Virtual Meeting
CATEGORIES:Arkansas
ATTACH;FMTTYPE=image/jpeg:https://heritageseekersar.com/wp-content/uploads/2020/11/scott-2013-1200x1200_orig.jpg
END:VEVENT
END:VCALENDAR