BEGIN:VCALENDAR
VERSION:2.0
PRODID:-//Heritage Seekers - ECPv6.15.20//NONSGML v1.0//EN
CALSCALE:GREGORIAN
METHOD:PUBLISH
X-ORIGINAL-URL:https://heritageseekersar.com
X-WR-CALDESC:Events for Heritage Seekers
REFRESH-INTERVAL;VALUE=DURATION:PT1H
X-Robots-Tag:noindex
X-PUBLISHED-TTL:PT1H
BEGIN:VTIMEZONE
TZID:America/Chicago
BEGIN:DAYLIGHT
TZOFFSETFROM:-0600
TZOFFSETTO:-0500
TZNAME:CDT
DTSTART:20230312T080000
END:DAYLIGHT
BEGIN:STANDARD
TZOFFSETFROM:-0500
TZOFFSETTO:-0600
TZNAME:CST
DTSTART:20231105T070000
END:STANDARD
BEGIN:DAYLIGHT
TZOFFSETFROM:-0600
TZOFFSETTO:-0500
TZNAME:CDT
DTSTART:20240310T080000
END:DAYLIGHT
BEGIN:STANDARD
TZOFFSETFROM:-0500
TZOFFSETTO:-0600
TZNAME:CST
DTSTART:20241103T070000
END:STANDARD
BEGIN:DAYLIGHT
TZOFFSETFROM:-0600
TZOFFSETTO:-0500
TZNAME:CDT
DTSTART:20250309T080000
END:DAYLIGHT
BEGIN:STANDARD
TZOFFSETFROM:-0500
TZOFFSETTO:-0600
TZNAME:CST
DTSTART:20251102T070000
END:STANDARD
END:VTIMEZONE
BEGIN:VEVENT
DTSTART;TZID=America/Chicago:20240415T183000
DTEND;TZID=America/Chicago:20240415T200000
DTSTAMP:20260422T184024
CREATED:20240122T195657Z
LAST-MODIFIED:20241228T172129Z
UID:1106-1713205800-1713211200@heritageseekersar.com
SUMMARY:Genealogical Treasures at NARA-St. Louis
DESCRIPTION:Genealogical Treasures at NARA-St. Louis \npresented by Lori Miller\, APG\, Military Researcher\, lecturer \nBoy\, doesn’t the NARA-St. Louis Archival facility and NPRC have military files? Why would I want to see them\, aren’t they filled with only troop information? \nCome find out the difference between the two sides of NARA-St. Louis\, how to plan a visit for research\, and learn that you might find some unexpected genealogy treasures that can help you in the search for family history in a military file. \nLori Berdak Miller is a military researcher/genealogist located in the St. Louis area. Her love of genealogy started in high school back in the days of Soundex and no internet\, to learn more of her dad’s Slovak/Rusyn roots. Combining her proud Air Force Brat blood and history degree led her to start Redbird Research LLC in 2006 to aid in searches at NARA ST LOUIS. \nLori has helped museums\, associations\, authors\, tv shows\, military collectors\, genealogists and families find answers to their military questions. She recently was filmed in an international documentary showing her work. She also has taught classes for SLIG\, IGHR (with Michael Strauss) and lectures for groups and societies. \nShe is a member of Association of Professional Genealogists\, Missouri Genealogy Society\, Ohio Genealogy Society\, Czechoslovak Genealogy Society International\, St. Louis Genealogy Society\, Orders and Medals Society of America\, International German Genealogy Partnership\, a Civil War Roundtable and other local and state societies. \nHandout \nCHAT \n 
URL:https://heritageseekersar.com/event/genealogical-treasures-at-nara-st-louis/
LOCATION:Zoom Virtual Meeting
CATEGORIES:Arkansas,Heritage Seekers
ORGANIZER;CN="The Heritage Seekers Genealogy Club":MAILTO:info@HeritageSeekersAR.com
END:VEVENT
END:VCALENDAR