BEGIN:VCALENDAR
VERSION:2.0
PRODID:-//Heritage Seekers - ECPv6.15.20//NONSGML v1.0//EN
CALSCALE:GREGORIAN
METHOD:PUBLISH
X-WR-CALNAME:Heritage Seekers
X-ORIGINAL-URL:https://heritageseekersar.com
X-WR-CALDESC:Events for Heritage Seekers
REFRESH-INTERVAL;VALUE=DURATION:PT1H
X-Robots-Tag:noindex
X-PUBLISHED-TTL:PT1H
BEGIN:VTIMEZONE
TZID:America/Chicago
BEGIN:DAYLIGHT
TZOFFSETFROM:-0600
TZOFFSETTO:-0500
TZNAME:CDT
DTSTART:20230312T080000
END:DAYLIGHT
BEGIN:STANDARD
TZOFFSETFROM:-0500
TZOFFSETTO:-0600
TZNAME:CST
DTSTART:20231105T070000
END:STANDARD
BEGIN:DAYLIGHT
TZOFFSETFROM:-0600
TZOFFSETTO:-0500
TZNAME:CDT
DTSTART:20240310T080000
END:DAYLIGHT
BEGIN:STANDARD
TZOFFSETFROM:-0500
TZOFFSETTO:-0600
TZNAME:CST
DTSTART:20241103T070000
END:STANDARD
BEGIN:DAYLIGHT
TZOFFSETFROM:-0600
TZOFFSETTO:-0500
TZNAME:CDT
DTSTART:20250309T080000
END:DAYLIGHT
BEGIN:STANDARD
TZOFFSETFROM:-0500
TZOFFSETTO:-0600
TZNAME:CST
DTSTART:20251102T070000
END:STANDARD
END:VTIMEZONE
BEGIN:VEVENT
DTSTART;TZID=America/Chicago:20240624T183000
DTEND;TZID=America/Chicago:20240624T200000
DTSTAMP:20260423T005822
CREATED:20240601T164837Z
LAST-MODIFIED:20241230T180734Z
UID:1217-1719253800-1719259200@heritageseekersar.com
SUMMARY:The Public's Health with Dr. Sam Taggart\, MD
DESCRIPTION:The Public’s Health with Dr. Sam Taggart\, MD \nOn June 24th\, Dr. Sam Taggart will give a presentation to the Heritage Seekers of Central Arkansas entitled: The Public’s Health: Two Steps Forward\, One Step Back: Two hundred years of health and disease in Arkansas. This lecture will look at the evolving history of Arkansas through the prism of health and disease. In the presentation he will discuss the various problems faced by Arkansans over the last two centuries. Beginning with malaria\, yellow fever\, smallpox and cholera in the 19th century and progressing to\, COVID\, AIDS\, Drugs Addiction and Obesity. We will look at the illnesses faced\, the tools they had to deal with them and how the people responded. Please join us.\nSam Taggart is a family doctor\, raised in the White River Delta in Augusta\, Arkansas. After medical school at UAMS\, he completed a Family Practice Residency. He retired in 2013 as the senior partner and founder of Family Practice Associates of Benton. In 2012 he wrote a book describing a narrative history of health and disease I Arkansas over the last 200 years\, The Public’s Health. \nIn 2015\, he created the Arkansas Physician’s Oral History Project. As a part of this project\, he went around the state interviewing country physicians to create a video record of their lives and the practice of medicine in rural Arkansas for the last 75 yrs. In June of 2021 he published Country Doctors of Arkansas\, as one of the products of that study. In April 2023\, he published For Every Family\, A Family Doctor a narrative history of the modern family medicine movement in Arkansas since 1947. \nHe and his wife\, Dr. Annette Enderlin are presently working on a book called Against the Odds: Arkansas Women in Medicine before 1972. \nCHAT \nMembers\, please login to see the video:Zoom meeting video:\n\n  \n 
URL:https://heritageseekersar.com/event/the-publics-health-with-dr-sam-taggart-md/
LOCATION:Zoom Virtual Meeting
CATEGORIES:Arkansas,Heritage Seekers
ORGANIZER;CN="The Heritage Seekers Genealogy Club":MAILTO:info@HeritageSeekersAR.com
END:VEVENT
END:VCALENDAR