BEGIN:VCALENDAR
VERSION:2.0
PRODID:-//Heritage Seekers - ECPv6.15.20//NONSGML v1.0//EN
CALSCALE:GREGORIAN
METHOD:PUBLISH
X-WR-CALNAME:Heritage Seekers
X-ORIGINAL-URL:https://heritageseekersar.com
X-WR-CALDESC:Events for Heritage Seekers
REFRESH-INTERVAL;VALUE=DURATION:PT1H
X-Robots-Tag:noindex
X-PUBLISHED-TTL:PT1H
BEGIN:VTIMEZONE
TZID:America/Chicago
BEGIN:DAYLIGHT
TZOFFSETFROM:-0600
TZOFFSETTO:-0500
TZNAME:CDT
DTSTART:20230312T080000
END:DAYLIGHT
BEGIN:STANDARD
TZOFFSETFROM:-0500
TZOFFSETTO:-0600
TZNAME:CST
DTSTART:20231105T070000
END:STANDARD
BEGIN:DAYLIGHT
TZOFFSETFROM:-0600
TZOFFSETTO:-0500
TZNAME:CDT
DTSTART:20240310T080000
END:DAYLIGHT
BEGIN:STANDARD
TZOFFSETFROM:-0500
TZOFFSETTO:-0600
TZNAME:CST
DTSTART:20241103T070000
END:STANDARD
BEGIN:DAYLIGHT
TZOFFSETFROM:-0600
TZOFFSETTO:-0500
TZNAME:CDT
DTSTART:20250309T080000
END:DAYLIGHT
BEGIN:STANDARD
TZOFFSETFROM:-0500
TZOFFSETTO:-0600
TZNAME:CST
DTSTART:20251102T070000
END:STANDARD
END:VTIMEZONE
BEGIN:VEVENT
DTSTART;TZID=America/Chicago:20240909T183000
DTEND;TZID=America/Chicago:20240909T200000
DTSTAMP:20260421T181646
CREATED:20240601T172224Z
LAST-MODIFIED:20241228T171930Z
UID:1232-1725906600-1725912000@heritageseekersar.com
SUMMARY:Chef Boyardee
DESCRIPTION:Chef Boyardee \npresented by Dr Deborah Abbott \nHave fun and enjoy following the life an American icon through genealogical eyes. Chef Boyardee was not only the face on the spaghetti can but was a real breathing person with roots in Cleveland\, Ohio. Learn how genealogical records\, i.e.\, immigration records\, vital records\, ship manifests\, manuscripts\, military\, photos\, newspapers\, etc.\, help to bring this man to life by providing information that you may not have known. \nSee how important repositories such as local and national libraries\, the national archives\, the library of congress\, government documents\, etc.\, are in the research process. The jewels that were found in this genealogical research are amazing. You are guaranteed to leave with new knowledge\, a smile on your face and an appetite for genealogy. \nDeborah A. Abbott\, PhD\, is a professional genealogist specializing in genealogical methodology\, manuscript collections\, and African American family research. She is a member of the Cuyahoga County (OH) Archives Commission\, the Lakeview Cemetery Community Outreach Committee (Cleveland\, OH)\, past president of the African American Genealogical Society\, Cleveland\, Ohio\, and a retired professor of Counseling from Cuyahoga Community College in Cleveland. She holds both the BS and MEd degrees from Tuskegee University and the PhD degree from Kent State University. \nDr. Abbott is coordinator of both the African American Track at the Institute of Genealogy and Historical Research (IGHR) in Athens\, Georgia\, and the Genealogical Research Institute of Pittsburgh (GRIP). She teaches at the Salt Lake Institute of Genealogy (SLIG) and the Texas Institute of Genealogical Research (TIGR). \nDr. Abbott has articles published in the Ohio Genealogy News and Family Tree magazines. She can be found teaching African American genealogy in a segment entitled “Needles & Threads” on Ancestry Academy\, an educational video course for Ancestry.com. She also teaches monthly classes entitled “Using Ancestry.com in Genealogy Research” at the Lakewood (Ohio) Public Library and coordinates the “Genealogy and Family History Clinic” for the Cleveland Public Library. \nShe is a member of the National Genealogical Society (NGS)\, the Association of Professional Genealogist (APG) and the Genealogical Speakers Guild (GSG). \nA Cleveland\, Ohio native\, Dr. Abbott is a life member of Alpha Kappa Alpha Sorority\, Inc.\, the Tuskegee University National Alumni Association\, and Antioch Baptist Church in Cleveland. \nHANDOUT \nCHAT \n 
URL:https://heritageseekersar.com/event/chef-boyardee/
LOCATION:Zoom Virtual Meeting
CATEGORIES:Arkansas,Heritage Seekers
ORGANIZER;CN="The Heritage Seekers Genealogy Club":MAILTO:info@HeritageSeekersAR.com
END:VEVENT
END:VCALENDAR