BEGIN:VCALENDAR
VERSION:2.0
PRODID:-//Heritage Seekers - ECPv6.15.20//NONSGML v1.0//EN
CALSCALE:GREGORIAN
METHOD:PUBLISH
X-WR-CALNAME:Heritage Seekers
X-ORIGINAL-URL:https://heritageseekersar.com
X-WR-CALDESC:Events for Heritage Seekers
REFRESH-INTERVAL;VALUE=DURATION:PT1H
X-Robots-Tag:noindex
X-PUBLISHED-TTL:PT1H
BEGIN:VTIMEZONE
TZID:America/Chicago
BEGIN:DAYLIGHT
TZOFFSETFROM:-0600
TZOFFSETTO:-0500
TZNAME:CDT
DTSTART:20190310T080000
END:DAYLIGHT
BEGIN:STANDARD
TZOFFSETFROM:-0500
TZOFFSETTO:-0600
TZNAME:CST
DTSTART:20191103T070000
END:STANDARD
BEGIN:DAYLIGHT
TZOFFSETFROM:-0600
TZOFFSETTO:-0500
TZNAME:CDT
DTSTART:20200308T080000
END:DAYLIGHT
BEGIN:STANDARD
TZOFFSETFROM:-0500
TZOFFSETTO:-0600
TZNAME:CST
DTSTART:20201101T070000
END:STANDARD
BEGIN:DAYLIGHT
TZOFFSETFROM:-0600
TZOFFSETTO:-0500
TZNAME:CDT
DTSTART:20210314T080000
END:DAYLIGHT
BEGIN:STANDARD
TZOFFSETFROM:-0500
TZOFFSETTO:-0600
TZNAME:CST
DTSTART:20211107T070000
END:STANDARD
END:VTIMEZONE
BEGIN:VEVENT
DTSTART;TZID=America/Chicago:20200727T183000
DTEND;TZID=America/Chicago:20200727T200000
DTSTAMP:20260421T173900
CREATED:20201121T190340Z
LAST-MODIFIED:20201121T190340Z
UID:268-1595874600-1595880000@heritageseekersar.com
SUMMARY:Zoom Meeting - Unexpected Connections: A Church\, A Prison & the War of 1812
DESCRIPTION:Unexpected Connections: A Church\, A Prison & the War of 1812\nby George Mitchell\, President Arkansas Chapter of the General Society of the War of 1812 \nWithin the Meuse-Argonne American Cemetery and Memorial in France\, rest the largest number of our military dead in Europe. A total of 14\,246 veterans are buried there. Most of those lost their lives during the Meuse-Argonne Offensive of World War I. George and his wife Sheila attended a Veteran’s Day Memorial Service on the 100th anniversary of the end of World War I\, November 11\, 2018 at Meuse-Argonne. A few days later\, they also visited a much lesser known cemetery\, the Dartmoor Prison Cemetery\, in Princetown\, Devon\, UK. There are 271 American Veterans of the War of 1812 are buried there and hardly anybody knows it even exist. George’s presentation shines a light on this forgotten cemetery and raises the question of why nobody knows about it. \nGeorge Mitchell is a native of Pine Bluff. He is retired from Southeast Arkansas College in Pine Bluff where he served as the Chair of the Technical Studies Division. George also served for thirteen years as a pastor in the United Methodist Church until he retired in 2014. He has been interested in genealogy for over 25 years. He and his wife Sheila are both active in their genealogical research and enjoy taking trips around the country to visit libraries\, archives and cemeteries in order to learn more about their family history. \nGeorge is currently President of the Arkansas Genealogical Society; President of The General Society of Descendants of the War of 1812 in Arkansas; Past President of the Jefferson County Genealogical Society in Pine Bluff; a member of Sons of the American Revolution; Descendants of Washington’s Army at Valley Forge; Arkansas Pioneers; First Families of Tennessee; First Families of Maryland; and the Flagon and Trencher Society. \nGeorge and Sheila have three daughters and five grandchildren. George says\, “We hope that someday at least some of them will show an interest in genealogy so we will have somebody to pass along all of our ‘genealogical stuff’”.
URL:https://heritageseekersar.com/event/zoom-meeting-unexpected-connections-a-church-a-prison-the-war-of-1812/
LOCATION:Zoom Virtual Meeting
CATEGORIES:Heritage Seekers
ORGANIZER;CN="The Heritage Seekers Genealogy Club":MAILTO:info@HeritageSeekersAR.com
END:VEVENT
BEGIN:VEVENT
DTSTART;TZID=America/Chicago:20200307T100000
DTEND;TZID=America/Chicago:20200307T160000
DTSTAMP:20260421T173900
CREATED:20201121T185808Z
LAST-MODIFIED:20201121T185808Z
UID:266-1583575200-1583596800@heritageseekersar.com
SUMMARY:Behind the Scenes at the Archives
DESCRIPTION:Behind the Scenes at the Archives – Tour Arkansas State Archives State Capitol\nplease RSVP to heritageseekers1@gmail.com – Thank you! \n(Big Mac Building behind the state capital) Don’t miss the 2nd annual “Behind the Scenes Tour” at the Arkansas State Archives. Ever wonder what’s in the back or how they do things? The treasures await! The staff is putting together 2 tours of special surprises for us. 10:00- noon or 2:00-4:00. Limited group sizes. Tour slots “guaranteed” only to RSVPs. $5 donation to Friends of Arkansas State Archives.
URL:https://heritageseekersar.com/event/behind-the-scenes-at-the-archives/
LOCATION:AR
CATEGORIES:Heritage Seekers
ORGANIZER;CN="The Heritage Seekers Genealogy Club":MAILTO:info@HeritageSeekersAR.com
END:VEVENT
BEGIN:VEVENT
DTSTART;TZID=America/Chicago:20200224T183000
DTEND;TZID=America/Chicago:20200224T200000
DTSTAMP:20260421T173900
CREATED:20201109T213149Z
LAST-MODIFIED:20201109T213659Z
UID:177-1582569000-1582574400@heritageseekersar.com
SUMMARY:Meeting - Using DNA in Family Research
DESCRIPTION:Using DNA in Family Research\nby Scott Lee \nScott will teach us how to effectively use DNA testing to research your family history. It will cover the pros and cons of the major testing companies and techniques to effectively use the information they provide. \nScott Lee is a retired software engineer that has been researching his family history since 1979. He has served as an officer in several genealogical societies and lectures on genealogical topics. In 1995\, he helped design the GEDCOM 5.5 standard\, improving its syntax to be more easily read by software and fixing several issues in date specifications. In his spare time\, he enjoys writing science fiction\, studying ancient calendars\, writing open source software\, keeping up on the latest advances in physics and astronomy\, and of course researching his family history.
URL:https://heritageseekersar.com/event/meeting/
LOCATION:Second Presbyterian Church\, 600 Pleasant Valley Dr.\, Room 66\, Little Rock\, AR\, 72227-2149\, United States
CATEGORIES:Heritage Seekers
ORGANIZER;CN="The Heritage Seekers Genealogy Club":MAILTO:info@HeritageSeekersAR.com
END:VEVENT
END:VCALENDAR