BEGIN:VCALENDAR
VERSION:2.0
PRODID:-//Heritage Seekers - ECPv6.15.20//NONSGML v1.0//EN
CALSCALE:GREGORIAN
METHOD:PUBLISH
X-WR-CALNAME:Heritage Seekers
X-ORIGINAL-URL:https://heritageseekersar.com
X-WR-CALDESC:Events for Heritage Seekers
REFRESH-INTERVAL;VALUE=DURATION:PT1H
X-Robots-Tag:noindex
X-PUBLISHED-TTL:PT1H
BEGIN:VTIMEZONE
TZID:America/Chicago
BEGIN:DAYLIGHT
TZOFFSETFROM:-0600
TZOFFSETTO:-0500
TZNAME:CDT
DTSTART:20240310T080000
END:DAYLIGHT
BEGIN:STANDARD
TZOFFSETFROM:-0500
TZOFFSETTO:-0600
TZNAME:CST
DTSTART:20241103T070000
END:STANDARD
BEGIN:DAYLIGHT
TZOFFSETFROM:-0600
TZOFFSETTO:-0500
TZNAME:CDT
DTSTART:20250309T080000
END:DAYLIGHT
BEGIN:STANDARD
TZOFFSETFROM:-0500
TZOFFSETTO:-0600
TZNAME:CST
DTSTART:20251102T070000
END:STANDARD
BEGIN:DAYLIGHT
TZOFFSETFROM:-0600
TZOFFSETTO:-0500
TZNAME:CDT
DTSTART:20260308T080000
END:DAYLIGHT
BEGIN:STANDARD
TZOFFSETFROM:-0500
TZOFFSETTO:-0600
TZNAME:CST
DTSTART:20261101T070000
END:STANDARD
END:VTIMEZONE
BEGIN:VEVENT
DTSTART;TZID=America/Chicago:20250609T183000
DTEND;TZID=America/Chicago:20250609T200000
DTSTAMP:20260421T063711
CREATED:20241231T222852Z
LAST-MODIFIED:20250821T161209Z
UID:1488-1749493800-1749499200@heritageseekersar.com
SUMMARY:Researching Your Colonial War Ancestors
DESCRIPTION:Researching Your Colonial War Ancestors  \npresented by Michael L Strauss\, AG \nParticipation in the local militia units was an important part in the life of your ancestors. The militia provided for the common defense and brought families together in times of crisis. Numerous armed conflicts including; King Philip’s War\, King George’s War\, and the War of Jenkins Ear are some that are highlighted. Genealogical sources will include muster rolls\, militia lists\, pay documents\, published books and manuscripts\, and other related materials. \nMichael L. Strauss\, AG is an Accredited Genealogist and national genealogical speaker. He has been employed as a forensic genealogist for 25 years and has a BA in history where he is a court qualified expert witness in New York\, New Jersey\, Pennsylvania and Virginia. Michael is a veteran of the United States Coast Guard and faculty member at IGHR\, SLIG and GRIP where he coordinates the military courses and has been active in Civil War reenacting for almost 30 years. \nHANDOUT \nCHAT \nMembers\, please login to see the video:Zoom meeting video:\n\n 
URL:https://heritageseekersar.com/event/researching-your-colonial-war-ancestors/
LOCATION:Zoom Virtual Meeting
CATEGORIES:Arkansas,Heritage Seekers
ORGANIZER;CN="The Heritage Seekers Genealogy Club":MAILTO:info@HeritageSeekersAR.com
END:VEVENT
BEGIN:VEVENT
DTSTART;TZID=America/Chicago:20250623T183000
DTEND;TZID=America/Chicago:20250623T200000
DTSTAMP:20260421T063711
CREATED:20250328T165910Z
LAST-MODIFIED:20250821T161148Z
UID:1554-1750703400-1750708800@heritageseekersar.com
SUMMARY:The Elaine Massacre
DESCRIPTION:The Elaine Massacre \nPresented by Dr. Brian Mitchell \nIn September of 1919\, black sharecroppers attended a meeting of the Progressive Farmers & Household Union at a church just north of Elaine. The objective was to accomplish competitive prices for their cotton. Instead\, they found the church surrounded\, ending in a shootout with white supremacist farmers. Posses & nightriders were sent out. Black farmers were hunted & shot by white mobs. U S troops were called in & created stockades to house their prisoners. Hundreds (unknown) black farmers\, including a WWI hero\, were killed\, with only 5 white deaths. The deadliest racial confrontation in Arkansas\, possibly the bloodiest in the US. \nBrian’s presentation explores the Life and Legacy of the youngest member of the Elaine Twelve. In Giles’ brief life\, he would go from Sharecropper\, to Death Row inmate\, and would ultimately die in Springfield\, Illinois. \nFormer Director of Research and Interpretation for the Abraham Lincoln Presidential Library and Museum\, Dr. Brian Mitchell\, is a noted scholar of “Difficult History.” Mitchell taught African American and Public History at the University of Arkansas at Little Rock for fifteen years before relocating to Springfield\, Illinois. The author of several books\, book chapters\, and papers. Mitchell’s most recent book\, Monumental: Oscar Dunn and his radical fight in Reconstruction Louisiana was the winner of several prestigious book awards including\, the Phillis Wheatley Book Award\, The American Association of State and Local History’s (AASLH) Excellence Award\, and was a finalist for the Organization of American Historians’ Best Civil War and Reconstruction Book Award. \nCHAT \nMembers\, please login to see the video:Zoom meeting video:
URL:https://heritageseekersar.com/event/the-elaine-massacre/
LOCATION:Zoom Virtual Meeting
CATEGORIES:Arkansas,Heritage Seekers
ORGANIZER;CN="The Heritage Seekers Genealogy Club":MAILTO:info@HeritageSeekersAR.com
END:VEVENT
END:VCALENDAR