BEGIN:VCALENDAR
VERSION:2.0
PRODID:-//Heritage Seekers - ECPv6.15.20//NONSGML v1.0//EN
CALSCALE:GREGORIAN
METHOD:PUBLISH
X-WR-CALNAME:Heritage Seekers
X-ORIGINAL-URL:https://heritageseekersar.com
X-WR-CALDESC:Events for Heritage Seekers
REFRESH-INTERVAL;VALUE=DURATION:PT1H
X-Robots-Tag:noindex
X-PUBLISHED-TTL:PT1H
BEGIN:VTIMEZONE
TZID:America/Chicago
BEGIN:DAYLIGHT
TZOFFSETFROM:-0600
TZOFFSETTO:-0500
TZNAME:CDT
DTSTART:20240310T080000
END:DAYLIGHT
BEGIN:STANDARD
TZOFFSETFROM:-0500
TZOFFSETTO:-0600
TZNAME:CST
DTSTART:20241103T070000
END:STANDARD
BEGIN:DAYLIGHT
TZOFFSETFROM:-0600
TZOFFSETTO:-0500
TZNAME:CDT
DTSTART:20250309T080000
END:DAYLIGHT
BEGIN:STANDARD
TZOFFSETFROM:-0500
TZOFFSETTO:-0600
TZNAME:CST
DTSTART:20251102T070000
END:STANDARD
BEGIN:DAYLIGHT
TZOFFSETFROM:-0600
TZOFFSETTO:-0500
TZNAME:CDT
DTSTART:20260308T080000
END:DAYLIGHT
BEGIN:STANDARD
TZOFFSETFROM:-0500
TZOFFSETTO:-0600
TZNAME:CST
DTSTART:20261101T070000
END:STANDARD
END:VTIMEZONE
BEGIN:VEVENT
DTSTART;TZID=America/Chicago:20250811T183000
DTEND;TZID=America/Chicago:20250811T200000
DTSTAMP:20260421T034218
CREATED:20250328T170401Z
LAST-MODIFIED:20251109T173746Z
UID:1558-1754937000-1754942400@heritageseekersar.com
SUMMARY:Inheriting Grandma Violet's Genealogy
DESCRIPTION:Inheriting Grandma Violet’s Genealogy \n\nPresented by LaDonna Garner\, MA – Leaf Seeker Consulting\n\nInherit a box or more of someone’s life-long genealogy research? Consider these steps to unearth\, organize\, weave through\, and incorporate a family member’s research project.\n\nLaDonna Garner\, M.A. is a Historic Consultant — Professional Genealogist & Historic Preservationist— focused on historical preservation and genealogical research in and outside Southeast Missouri. She often lectures on both subjects at conferences\, society events\, and colleges. She also offers in-person/online courses and one-on-one consultations.\n\nGarner is an active member of the Association of Professional Genealogists and assists numerous organizations in various volunteer and leadership capacities. Garner’s current projects regard reenacting and rediscovering forgotten communities and cemetery preservation for a greater understanding of people\, places\, and cultural heritage.\nLaDonna’s recent programs are numerous including state records in government documents with the Institute of Genealogical & Historical Research (IGHR)\, ancestral homes with Polk County History Center (FL)\, and upcoming series with Scenic Regional Library in Missouri.\n\nHANDOUT\n\nCHAT\n\nMembers\, please login to see the video:Zoom meeting video:
URL:https://heritageseekersar.com/event/inheriting-grandma-violets-genealogy/
LOCATION:Zoom Virtual Meeting
CATEGORIES:Arkansas,Heritage Seekers
ORGANIZER;CN="The Heritage Seekers Genealogy Club":MAILTO:info@HeritageSeekersAR.com
END:VEVENT
BEGIN:VEVENT
DTSTART;TZID=America/Chicago:20250816T000000
DTEND;TZID=America/Chicago:20250816T160000
DTSTAMP:20260421T034218
CREATED:20250807T160202Z
LAST-MODIFIED:20250810T002902Z
UID:1639-1755302400-1755360000@heritageseekersar.com
SUMMARY:Research Day and Brick Wall Challenge at Butler Center
DESCRIPTION:Research Day & Brick Wall Challenge at Butler Center!\nLibrary Square\, 401 President Clinton Ave\, Little Rock\, AR 72201\nAugust 16 – 12noon – 4pm
URL:https://heritageseekersar.com/event/research-day-and-brick-wall-challenge-at-butler-center/
LOCATION:CALS Butler Center\, 401 President Clinton Ave\, Little Rock\, AR\, 72201\, United States
CATEGORIES:Arkansas,Heritage Seekers
ORGANIZER;CN="The Heritage Seekers Genealogy Club":MAILTO:info@HeritageSeekersAR.com
END:VEVENT
BEGIN:VEVENT
DTSTART;TZID=America/Chicago:20250825T183000
DTEND;TZID=America/Chicago:20250825T200000
DTSTAMP:20260421T034218
CREATED:20250328T170605Z
LAST-MODIFIED:20250826T151021Z
UID:1560-1756146600-1756152000@heritageseekersar.com
SUMMARY:WHAT Exactly IS a Manuscript Collection? And How do You Create One?
DESCRIPTION:WHAT Exactly IS a Manuscript Collection?\nAnd How do You Create One?  \nPresented by Brian Robertson\, Butler Center \nDo you ever wonder how to make your records a more manageable? Or consider “what” will be the fate of them? \nBrian Robertson will discuss what a manuscript collection is\, how they are usually created\, and what you can do with them. He will also talk about how archives and libraries make them available to researchers. \nBrian Robertson is the Senior Archivist and Manager of the Research Services Division at the Butler Center for Arkansas Studies at the Central Arkansas Library System. He has been at the Center since 1999. He has a bachelor’s degree in history from the University of Central Arkansas and a master’s degree in public history from the University of Arkansas at Little Rock. Robertson is the author or editor of several books and articles on Arkansas history. He is also the project director of the award-winning Arkansas Korean War Project as well as the Arkansas Vietnam War Project. \nMembers\, please login to see the video:Zoom meeting video:
URL:https://heritageseekersar.com/event/what-exactly-is-a-manuscript-collection-and-how-do-you-create-one/
LOCATION:Zoom Virtual Meeting
CATEGORIES:Arkansas,Heritage Seekers
ORGANIZER;CN="The Heritage Seekers Genealogy Club":MAILTO:info@HeritageSeekersAR.com
END:VEVENT
END:VCALENDAR